BEGIN:VCALENDAR
VERSION:2.0
PRODID:-//eventon.com NONSGML v1.0//EN
CALSCALE:GREGORIAN
METHOD:PUBLISH
BEGIN:VEVENT
UID:69e831c38d4a2
DTSTAMP:20260422T022611Z
DTSTART:20170520
DTEND:20170521
LOCATION:Deauville Boulevard Eugène Cornuche\,  14800 Deauville
SUMMARY:3ème Edition du Casting Porsche – Deauville - Expo / Rallye touristique
DESCRIPTION:Retrouvez toutes les infos sur le Porsche Casting de Deauville 
 2018 ici ! Cette année\,  le samedi 20 et dimanche  21 Mai 2017\,  se dé
 roule la 3ème édition du Porsche Casting Deauville. Cet expo/Rallye touri
 stique des plus convivial organisé dans un lieu exceptionnel est organisé
  par le Porsche Club de[..]\nhttps://911andco.fr/evenements/3eme-edition-ca
 sting-porsche-deauville-expo-rallye-touristique/
URL:https://911andco.fr/evenements/3eme-edition-casting-porsche-deauville-expo-rallye-touristique/
END:VEVENT
END:VCALENDAR