BEGIN:VCALENDAR
VERSION:2.0
PRODID:-//eventon.com NONSGML v1.0//EN
CALSCALE:GREGORIAN
METHOD:PUBLISH
BEGIN:VEVENT
UID:69eb0fef7ea82
DTSTAMP:20260424T063839Z
DTSTART:20170505
DTEND:20170506
LOCATION:Technopôle Circuit du Val de Vienne 86150 Le Vigeant
SUMMARY:3ème meeting du Porsche Club Motorsport  au Circuit du Val de Vienne
DESCRIPTION:Il s&rsquo;agit du 3ème meeting et la 2ème manche de courses 
 des Porsche Club Challenge et du BRM Sport Cup de la saison 2017 du Porsche
  Club Motorsport. Si vous ne savez pas ce qu&rsquo;est le Club Porsche Moto
 rsport\,  consultez la fiche explicative du Porsche Club Motorsport dans no
 tre annuaire.[..]\nhttps://911andco.fr/evenements/club-porsche-motorsport-c
 ircuit-val-de-vienne/
URL:https://911andco.fr/evenements/club-porsche-motorsport-circuit-val-de-vienne/
END:VEVENT
END:VCALENDAR