BEGIN:VCALENDAR
VERSION:2.0
PRODID:-//eventon.com NONSGML v1.0//EN
CALSCALE:GREGORIAN
METHOD:PUBLISH
BEGIN:VEVENT
UID:69eb0ff992742
DTSTAMP:20260424T063849Z
DTSTART:20170908
DTEND:20170909
LOCATION:Circuit Bugatti Le Mans Place Luigi Chinetti\,  72019 Le Mans
SUMMARY:7ème Meeting Porsche Club Motorsport au circuit Bugatti Le Mans
DESCRIPTION:Ce 7ème meeting du Porsche Club Motorsport se déroulera au ci
 rcuit Bugatti Le Mans. Ce meeting ne donnera pas lieu aux épreuves habitue
 lles\,  à savoir le Porsche Club Challenge\,  le Michelin Challenge Régul
 arité et le BRM Sport Cup. Ce meeting est réservé : aux séances de roul
 age club à une[..]\nhttps://911andco.fr/evenements/meeting-porsche-club-mo
 torsport-circuit-bugatti-mans-rs-endurance/
URL:https://911andco.fr/evenements/meeting-porsche-club-motorsport-circuit-bugatti-mans-rs-endurance/
END:VEVENT
END:VCALENDAR