BEGIN:VCALENDAR
VERSION:2.0
PRODID:-//eventon.com NONSGML v1.0//EN
CALSCALE:GREGORIAN
METHOD:PUBLISH
BEGIN:VEVENT
UID:69eb0ff98f2ff
DTSTAMP:20260424T063849Z
DTSTART:20171027
DTEND:20171028
LOCATION:Circuit Paul Ricard 2760 Route des Hauts du Camp\,  RDN8\,  83330 Le Castellet
SUMMARY:8ème Meeting Porsche Club Motorsport au circuit Paul Ricard
DESCRIPTION:Ce 8ème et dernier meeting du Porsche Club Motorsport se déro
 ulera au Castellet\,  sur le célèbre circuit Paul Ricard où se déroule 
 également le Porsche Spring Meeting. Les pilotes engagés dans le Porsche 
 Club Challenge\,  le Michelin Challenge Régularité et le BRM Sport Cup se
  retrouverons pour la 6ème manche[..]\nhttps://911andco.fr/evenements/meet
 ing-porsche-club-motorsport-circuit-paul-ricard/
URL:https://911andco.fr/evenements/meeting-porsche-club-motorsport-circuit-paul-ricard/
END:VEVENT
END:VCALENDAR