BEGIN:VCALENDAR
VERSION:2.0
PRODID:-//eventon.com NONSGML v1.0//EN
CALSCALE:GREGORIAN
METHOD:PUBLISH
BEGIN:VEVENT
UID:69eb0fef27fbd
DTSTAMP:20260424T063839Z
DTSTART:20170714
DTEND:20170715
LOCATION:Circuit de Ledenon 30210 Lédenon\,  Gard\,  France
SUMMARY:5ème meeting  Porsche Club Motorsport - Circuit de Ledenon
DESCRIPTION:Le Porsche Club Motorsport nous donne rendez-vous sur le circui
 t de Ledenon pour ce 5ème meeting de l&rsquo;année. Les amateurs et passi
 onnés de circuit auront le choix entre les différentes épreuves habituel
 les\,  selon leur niveau de pilotage. Pendant ce meeting\,   se déroulero
 nt les 4ème manches : &#8211; du Porsche Club[..]\nhttps://911andco.fr/eve
 nements/meeting-club-porsche-motorsport-circuit-de-ledenon/
URL:https://911andco.fr/evenements/meeting-club-porsche-motorsport-circuit-de-ledenon/
END:VEVENT
END:VCALENDAR