BEGIN:VCALENDAR
VERSION:2.0
PRODID:-//eventon.com NONSGML v1.0//EN
CALSCALE:GREGORIAN
METHOD:PUBLISH
BEGIN:VEVENT
UID:69eb1013b4f57
DTSTAMP:20260424T063915Z
DTSTART:20170602
DTEND:20170603
LOCATION:Circuit DIjon - Prenois
SUMMARY:4ème meeting du Porsche Club Motorsport - Circuit Dijon - Prenois
DESCRIPTION:Et nous voilà déjà au 4ème meeting du Porsche Club Motorspo
 rt pour la saison 2017. Durant ce meeting se déroulera la 3ème manche du 
 Porsche Club Challenge\,  du Michelin Challenge Régularité et du BRM Spo
 rt Cup pour cette saison 2017. Vous vous demandez\,  peut-être\,  si vous 
 débutez dans le magnifique monde[..]\nhttps://911andco.fr/evenements/meeti
 ng-du-club-porsche-motorsport-circuit-dijon-prenois/
URL:https://911andco.fr/evenements/meeting-du-club-porsche-motorsport-circuit-dijon-prenois/
END:VEVENT
END:VCALENDAR